BEGIN:VCALENDAR
VERSION:2.0
PRODID:-//Hello, Beauty-full! - ECPv4.1.1//NONSGML v1.0//EN
CALSCALE:GREGORIAN
METHOD:PUBLISH
X-WR-CALNAME:Hello, Beauty-full!
X-ORIGINAL-URL:https://hellobeautyfull.org
X-WR-CALDESC:Events for Hello, Beauty-full!
BEGIN:VEVENT
DTSTART;TZID=America/New_York:20160604T100000
DTEND;TZID=America/New_York:20160604T180000
DTSTAMP:20260423T191329
CREATED:20160128T172430
LAST-MODIFIED:20160511T195856
UID:665-1465034400-1465063200@hellobeautyfull.org
SUMMARY:Love Yourself. Heal Your Life. Session 1
DESCRIPTION:Love Yourself. Heal Your Life. \nLoving yourself is the key to changing your life. When you really love yourself\, your life can blossom. However\, this is easier said than done! This 2 day workshop will guide you in exercises to release the past and learn to love yourself. You will learn how your thoughts create your reality and how you can make changes in old thought/feeling patterns to create the life you want.  Using the mirror technique popularized by Louise Hay and other processes\, you will take a quantum step in self-acceptance. Using these affirmations and visualizations will enable you to focus on the new reality you want to create.\n\nWhat to expect:\n\nDay One:\n\n\tOrientation\n\tIn-depth explanation of Louise Hay’s philosophy and work.\n\tVarious exercises that challenge our patterns of thinking.\n\tLearning how to use Mirror work to change our lives.\n\t2 breaks and a one-hour lunch break.\n\nDay Two:\n\n\tDelve deeper into our old\, emotional patterns.\n\tLearn exercises that can reveal how we operate out of our family dynamics.\n\tExplore the why we need to forgive ourselves and others and how to do it.\n\nAnd then we begin write our new chapter.\n\n\tLearn how to write and use affirmations in our daily life for immediate results while visualizing what we want to pull into our lives for the future.\n\tWe will create bonds of friendship in a safe and loving environment and learn how to win in our lives and most importantly\, learn to love ourselves.\n\nWorkshop Times 10:00 am - 6:00 pm\nSeating limited to 8 per class.\nIntroductory offer of just $395\n\n \n\n[add_to_cart id="1048"]\n\n 
URL:https://hellobeautyfull.org/event/love-yourself-heal-yourself-2-day-workshop/
LOCATION:20 Louella Court\, Wayne\, PA\, 19087
GEO:40.044981;-75.385394
X-APPLE-STRUCTURED-LOCATION;VALUE=URI;X-ADDRESS=20 Louella Court Wayne PA 19087;X-APPLE-RADIUS=500;X-TITLE=20 Louella Court:geo:-75.385394,40.044981
ATTACH;FMTTYPE=image/jpeg:https://hellobeautyfull.org/wp-content/uploads/2016/03/hbf_img_website-header_alyssa-looking-out-a-big-window.jpg
ORGANIZER;CN="Lori%20Pastore":MAILTO:info@hellobeautyfull.org
END:VEVENT
END:VCALENDAR