BEGIN:VCALENDAR
VERSION:2.0
PRODID:-//Hello, Beauty-full! - ECPv4.1.1//NONSGML v1.0//EN
CALSCALE:GREGORIAN
METHOD:PUBLISH
X-WR-CALNAME:Hello, Beauty-full!
X-ORIGINAL-URL:https://hellobeautyfull.org
X-WR-CALDESC:Events for Hello, Beauty-full!
BEGIN:VEVENT
DTSTART;TZID=America/New_York:20160623T180000
DTEND;TZID=America/New_York:20160623T210000
DTSTAMP:20260423T174542
CREATED:20160128T160702
LAST-MODIFIED:20160408T171841
UID:669-1466704800-1466715600@hellobeautyfull.org
SUMMARY:The Totality of Possibilities For Your Life!
DESCRIPTION:\nThe Totality of Possibilities For Your Life!\n The only limitations we have are the ones we place on ourselves\n• Do you ever feel as though you are not fulfilling your life purpose?\n• Do you know you possess gifts that aren’t being expressed?\n• Do you ever ask yourself ~Is this all there is?\nIf you can relate to the questions above\,\nTHE TOTALITY OF POSSIBILITIES WORKSHOP IS FOR YOU!\nThis workshop will help you foster the powerful belief that whatever you conceive in your mind\, can be manifested in your life. This workshop will help you to get rid of the fears and limitations that prevent you from being all that you can be.\n\nLearn the 5 keys for mental\, emotional and spiritual well-being.\n\n• Reclaim your GREATNESS\n• Become aware of thoughts that limit you\n• Learn to accept who you are and where you are right now\n\nLearn how to go beyond your limited expectations and release old beliefs and fears.\n\nYou can have anything you truly believe you deserve.\n\n"Every thought you think is creating your future" – Louise Hay\n\nThis workshop is based on the teaching and philosophies of Louise Hay\, author of “You Can Heal Your Life”.\n\n[add_to_cart id="787"]
URL:https://hellobeautyfull.org/event/the-totality-of-possibilities-for-your-life/
LOCATION:20 Louella Court\, Wayne\, PA\, 19087
GEO:40.044981;-75.385394
X-APPLE-STRUCTURED-LOCATION;VALUE=URI;X-ADDRESS=20 Louella Court Wayne PA 19087;X-APPLE-RADIUS=500;X-TITLE=20 Louella Court:geo:-75.385394,40.044981
ATTACH;FMTTYPE=image/jpeg:https://hellobeautyfull.org/wp-content/uploads/2015/10/hbf_img_website-header_alyssa-church-arches.jpg
ORGANIZER;CN="Carolyn%20Smith":MAILTO:carolyn@hellobeautyfull.org
END:VEVENT
END:VCALENDAR